BEGIN:VCALENDAR
VERSION:2.0
PRODID:-//Height for Hire Safety Training - ECPv6.15.17.1//NONSGML v1.0//EN
CALSCALE:GREGORIAN
METHOD:PUBLISH
X-WR-CALNAME:Height for Hire Safety Training
X-ORIGINAL-URL:https://heightforhiresafetytraining.ie
X-WR-CALDESC:Events for Height for Hire Safety Training
REFRESH-INTERVAL;VALUE=DURATION:PT1H
X-Robots-Tag:noindex
X-PUBLISHED-TTL:PT1H
BEGIN:VTIMEZONE
TZID:UTC
BEGIN:STANDARD
TZOFFSETFROM:+0000
TZOFFSETTO:+0000
TZNAME:UTC
DTSTART:20220101T000000
END:STANDARD
END:VTIMEZONE
BEGIN:VEVENT
DTSTART;TZID=UTC:20230626T080000
DTEND;TZID=UTC:20230626T170000
DTSTAMP:20260423T105200
CREATED:20230525T071954Z
LAST-MODIFIED:20230619T153052Z
UID:7675-1687766400-1687798800@heightforhiresafetytraining.ie
SUMMARY:(FULL)IPAF MEWP Training  -  Ashbourne
DESCRIPTION:
URL:https://heightforhiresafetytraining.ie/training-course/ipaf-mewp-training-ashbourne-284/
CATEGORIES:Fully Booked
END:VEVENT
BEGIN:VEVENT
DTSTART;TZID=UTC:20230623T080000
DTEND;TZID=UTC:20230623T170000
DTSTAMP:20260423T105200
CREATED:20230524T140104Z
LAST-MODIFIED:20230524T140104Z
UID:7663-1687507200-1687539600@heightforhiresafetytraining.ie
SUMMARY:HFH MEWP Training -  Ashbourne
DESCRIPTION:
URL:https://heightforhiresafetytraining.ie/training-course/hfh-mewp-training-ashbourne-3/
CATEGORIES:HFH MEWP & Harness Course
END:VEVENT
BEGIN:VEVENT
DTSTART;TZID=UTC:20230622T080000
DTEND;TZID=UTC:20230622T170000
DTSTAMP:20260423T105200
CREATED:20230511T152909Z
LAST-MODIFIED:20230615T132039Z
UID:7589-1687420800-1687453200@heightforhiresafetytraining.ie
SUMMARY:(FULL)IPAF MEWP Training  -  Ashbourne
DESCRIPTION:
URL:https://heightforhiresafetytraining.ie/training-course/full-ipaf-mewp-training-ashbourne-3/
CATEGORIES:Fully Booked
END:VEVENT
BEGIN:VEVENT
DTSTART;TZID=UTC:20230621T080000
DTEND;TZID=UTC:20230621T170000
DTSTAMP:20260423T105200
CREATED:20230525T071834Z
LAST-MODIFIED:20230609T131026Z
UID:7672-1687334400-1687366800@heightforhiresafetytraining.ie
SUMMARY:(FULL)IPAF MEWP Training  -  Ashbourne
DESCRIPTION:
URL:https://heightforhiresafetytraining.ie/training-course/ipaf-mewp-training-ashbourne-283/
CATEGORIES:Fully Booked
END:VEVENT
BEGIN:VEVENT
DTSTART;TZID=UTC:20230620T080000
DTEND;TZID=UTC:20230620T170000
DTSTAMP:20260423T105200
CREATED:20230525T071819Z
LAST-MODIFIED:20230622T133609Z
UID:7670-1687248000-1687280400@heightforhiresafetytraining.ie
SUMMARY:IPAF MEWP Training  -  Ashbourne
DESCRIPTION:
URL:https://heightforhiresafetytraining.ie/training-course/ipaf-mewp-training-ashbourne-282/
CATEGORIES:Fully Booked
END:VEVENT
BEGIN:VEVENT
DTSTART;TZID=UTC:20230619T080000
DTEND;TZID=UTC:20230619T170000
DTSTAMP:20260423T105200
CREATED:20230524T133433Z
LAST-MODIFIED:20230616T132943Z
UID:7655-1687161600-1687194000@heightforhiresafetytraining.ie
SUMMARY:(FULL) IPAF MEWP Training  -  Ashbourne
DESCRIPTION:
URL:https://heightforhiresafetytraining.ie/training-course/ipaf-mewp-training-ashbourne-280/
CATEGORIES:Fully Booked
END:VEVENT
BEGIN:VEVENT
DTSTART;TZID=UTC:20230616T080000
DTEND;TZID=UTC:20230616T170000
DTSTAMP:20260423T105200
CREATED:20230530T074732Z
LAST-MODIFIED:20230615T132139Z
UID:7696-1686902400-1686934800@heightforhiresafetytraining.ie
SUMMARY:(FULL) IPAF MEWP Training  -  Ashbourne
DESCRIPTION:
URL:https://heightforhiresafetytraining.ie/training-course/ipaf-mewp-training-ashbourne-288/
CATEGORIES:Fully Booked
END:VEVENT
BEGIN:VEVENT
DTSTART;TZID=UTC:20230615T080000
DTEND;TZID=UTC:20230615T170000
DTSTAMP:20260423T105200
CREATED:20230522T080501Z
LAST-MODIFIED:20230615T132012Z
UID:7643-1686816000-1686848400@heightforhiresafetytraining.ie
SUMMARY:IPAF MEWP Training  -  Ashbourne
DESCRIPTION:
URL:https://heightforhiresafetytraining.ie/training-course/ipaf-mewp-training-ashbourne-277/
CATEGORIES:Fully Booked
END:VEVENT
BEGIN:VEVENT
DTSTART;TZID=UTC:20230614T080000
DTEND;TZID=UTC:20230614T170000
DTSTAMP:20260423T105200
CREATED:20230522T080610Z
LAST-MODIFIED:20230613T153533Z
UID:7647-1686729600-1686762000@heightforhiresafetytraining.ie
SUMMARY:HFH MEWP Training  -  Ashbourne
DESCRIPTION:
URL:https://heightforhiresafetytraining.ie/training-course/hfh-mewp-training-ashbourne-2/
CATEGORIES:Fully Booked
END:VEVENT
BEGIN:VEVENT
DTSTART;TZID=UTC:20230613T080000
DTEND;TZID=UTC:20230613T170000
DTSTAMP:20260423T105200
CREATED:20230522T080443Z
LAST-MODIFIED:20230608T090011Z
UID:7641-1686643200-1686675600@heightforhiresafetytraining.ie
SUMMARY:IPAF MEWP Training  -  Ashbourne
DESCRIPTION:
URL:https://heightforhiresafetytraining.ie/training-course/ipaf-mewp-training-ashbourne-276/
CATEGORIES:Fully Booked
END:VEVENT
BEGIN:VEVENT
DTSTART;TZID=UTC:20230612T080000
DTEND;TZID=UTC:20230612T170000
DTSTAMP:20260423T105200
CREATED:20230522T080427Z
LAST-MODIFIED:20230612T075814Z
UID:7639-1686556800-1686589200@heightforhiresafetytraining.ie
SUMMARY:IPAF MEWP Training  -  Ashbourne
DESCRIPTION:
URL:https://heightforhiresafetytraining.ie/training-course/ipaf-mewp-training-ashbourne-275/
CATEGORIES:Fully Booked
END:VEVENT
BEGIN:VEVENT
DTSTART;TZID=UTC:20230609T080000
DTEND;TZID=UTC:20230609T170000
DTSTAMP:20260423T105200
CREATED:20230511T152849Z
LAST-MODIFIED:20230511T152849Z
UID:7587-1686297600-1686330000@heightforhiresafetytraining.ie
SUMMARY:(FULL) IPAF MEWP Training  -  Ashbourne
DESCRIPTION:
URL:https://heightforhiresafetytraining.ie/training-course/full-ipaf-mewp-training-ashbourne-2/
CATEGORIES:Fully Booked
END:VEVENT
BEGIN:VEVENT
DTSTART;TZID=UTC:20230608T080000
DTEND;TZID=UTC:20230608T170000
DTSTAMP:20260423T105200
CREATED:20230525T071706Z
LAST-MODIFIED:20230608T085750Z
UID:7668-1686211200-1686243600@heightforhiresafetytraining.ie
SUMMARY:IPAF MEWP Training  -  Ashbourne
DESCRIPTION:
URL:https://heightforhiresafetytraining.ie/training-course/ipaf-mewp-training-ashbourne-281/
CATEGORIES:Fully Booked
END:VEVENT
BEGIN:VEVENT
DTSTART;TZID=UTC:20230608T080000
DTEND;TZID=UTC:20230608T170000
DTSTAMP:20260423T105200
CREATED:20230522T080552Z
LAST-MODIFIED:20230608T085736Z
UID:7645-1686211200-1686243600@heightforhiresafetytraining.ie
SUMMARY:HFH MEWP Training -  Ashbourne **2 spaces left**
DESCRIPTION:
URL:https://heightforhiresafetytraining.ie/training-course/hfh-mewp-training-ashbourne/
CATEGORIES:Fully Booked
END:VEVENT
BEGIN:VEVENT
DTSTART;TZID=UTC:20230607T080000
DTEND;TZID=UTC:20230607T170000
DTSTAMP:20260423T105200
CREATED:20230524T133349Z
LAST-MODIFIED:20230525T071425Z
UID:7653-1686124800-1686157200@heightforhiresafetytraining.ie
SUMMARY:(FULL) IPAF MEWP Training  -  Ashbourne
DESCRIPTION:
URL:https://heightforhiresafetytraining.ie/training-course/ipaf-mewp-training-ashbourne-279/
CATEGORIES:Fully Booked
END:VEVENT
BEGIN:VEVENT
DTSTART;TZID=UTC:20230606T080000
DTEND;TZID=UTC:20230606T170000
DTSTAMP:20260423T105200
CREATED:20230524T133331Z
LAST-MODIFIED:20230608T085917Z
UID:7651-1686038400-1686070800@heightforhiresafetytraining.ie
SUMMARY:IPAF MEWP Training  -  Ashbourne
DESCRIPTION:
URL:https://heightforhiresafetytraining.ie/training-course/ipaf-mewp-training-ashbourne-278/
CATEGORIES:Fully Booked
END:VEVENT
BEGIN:VEVENT
DTSTART;TZID=UTC:20230605T080000
DTEND;TZID=UTC:20230605T170000
DTSTAMP:20260423T105200
CREATED:20230525T072226Z
LAST-MODIFIED:20230525T072249Z
UID:7685-1685952000-1685984400@heightforhiresafetytraining.ie
SUMMARY:BANK HOLIDAY
DESCRIPTION:
URL:https://heightforhiresafetytraining.ie/training-course/bank-holiday-10/
CATEGORIES:Fully Booked
END:VEVENT
BEGIN:VEVENT
DTSTART;TZID=UTC:20230602T080000
DTEND;TZID=UTC:20230602T170000
DTSTAMP:20260423T105200
CREATED:20230525T133815Z
LAST-MODIFIED:20230525T133815Z
UID:7692-1685692800-1685725200@heightforhiresafetytraining.ie
SUMMARY:Group Bookings Call 01 691 4008
DESCRIPTION:
URL:https://heightforhiresafetytraining.ie/training-course/group-bookings-call-01-691-4008-2/
CATEGORIES:Belfast
END:VEVENT
BEGIN:VEVENT
DTSTART;TZID=UTC:20230602T080000
DTEND;TZID=UTC:20230602T170000
DTSTAMP:20260423T105200
CREATED:20230511T071628Z
LAST-MODIFIED:20230524T153710Z
UID:7585-1685692800-1685725200@heightforhiresafetytraining.ie
SUMMARY:(FULL) IPAF MEWP Training  -  Ashbourne
DESCRIPTION:
URL:https://heightforhiresafetytraining.ie/training-course/ipaf-mewp-training-ashbournelimited-space-left-4/
CATEGORIES:Fully Booked
END:VEVENT
BEGIN:VEVENT
DTSTART;TZID=UTC:20230601T080000
DTEND;TZID=UTC:20230601T170000
DTSTAMP:20260423T105200
CREATED:20230522T080244Z
LAST-MODIFIED:20230524T135820Z
UID:7637-1685606400-1685638800@heightforhiresafetytraining.ie
SUMMARY:(FULL) IPAF MEWP Training  -  Ashbourne
DESCRIPTION:
URL:https://heightforhiresafetytraining.ie/training-course/ipaf-mewp-training-ashbourne-274/
CATEGORIES:Fully Booked
END:VEVENT
BEGIN:VEVENT
DTSTART;TZID=UTC:20230601T080000
DTEND;TZID=UTC:20230601T170000
DTSTAMP:20260423T105200
CREATED:20230512T144236Z
LAST-MODIFIED:20230512T144236Z
UID:7628-1685606400-1685638800@heightforhiresafetytraining.ie
SUMMARY:(FULL) IPAF MEWP Training  - Castletroy \, Limerick
DESCRIPTION:
URL:https://heightforhiresafetytraining.ie/training-course/full-ipaf-mewp-training-castletroy-limerick/
CATEGORIES:Fully Booked
END:VEVENT
BEGIN:VEVENT
DTSTART;TZID=UTC:20230530T080000
DTEND;TZID=UTC:20230531T170000
DTSTAMP:20260423T105200
CREATED:20230511T071416Z
LAST-MODIFIED:20230511T071416Z
UID:7581-1685433600-1685552400@heightforhiresafetytraining.ie
SUMMARY:(FULL) IPAF MEWP Training  -  Ashbourne
DESCRIPTION:
URL:https://heightforhiresafetytraining.ie/training-course/full-ipaf-mewp-training-ashbourne/
CATEGORIES:Fully Booked
END:VEVENT
BEGIN:VEVENT
DTSTART;TZID=UTC:20230529T080000
DTEND;TZID=UTC:20230531T170000
DTSTAMP:20260423T105200
CREATED:20230525T133731Z
LAST-MODIFIED:20230525T133731Z
UID:7690-1685347200-1685552400@heightforhiresafetytraining.ie
SUMMARY:Group Bookings Call 01 691 4008
DESCRIPTION:
URL:https://heightforhiresafetytraining.ie/training-course/group-bookings-call-01-691-4008/
CATEGORIES:Belfast
END:VEVENT
BEGIN:VEVENT
DTSTART;TZID=UTC:20230529T080000
DTEND;TZID=UTC:20230529T170000
DTSTAMP:20260423T105200
CREATED:20230511T071538Z
LAST-MODIFIED:20230529T074551Z
UID:7583-1685347200-1685379600@heightforhiresafetytraining.ie
SUMMARY:IPAF MEWP Training  -  Ashbourne
DESCRIPTION:
URL:https://heightforhiresafetytraining.ie/training-course/ipaf-mewp-training-ashbournelimited-space-left-3/
CATEGORIES:Fully Booked
END:VEVENT
BEGIN:VEVENT
DTSTART;TZID=UTC:20230526T080000
DTEND;TZID=UTC:20230526T170000
DTSTAMP:20260423T105200
CREATED:20230515T100921Z
LAST-MODIFIED:20230525T160249Z
UID:7630-1685088000-1685120400@heightforhiresafetytraining.ie
SUMMARY:IPAF MEWP Training  -  Ashbourne
DESCRIPTION:
URL:https://heightforhiresafetytraining.ie/training-course/ipaf-mewp-training-ashbourne-271/
CATEGORIES:Fully Booked
END:VEVENT
BEGIN:VEVENT
DTSTART;TZID=UTC:20230525T080000
DTEND;TZID=UTC:20230525T170000
DTSTAMP:20260423T105200
CREATED:20230426T134608Z
LAST-MODIFIED:20230525T071539Z
UID:7566-1685001600-1685034000@heightforhiresafetytraining.ie
SUMMARY:(FULL) IPAF MEWP Training  -  Ashbourne
DESCRIPTION:
URL:https://heightforhiresafetytraining.ie/training-course/ipaf-mewp-training-ashbourne-273/
CATEGORIES:Fully Booked
END:VEVENT
BEGIN:VEVENT
DTSTART;TZID=UTC:20230524T080000
DTEND;TZID=UTC:20230524T170000
DTSTAMP:20260423T105200
CREATED:20230504T090828Z
LAST-MODIFIED:20230509T113007Z
UID:7571-1684915200-1684947600@heightforhiresafetytraining.ie
SUMMARY:(FULL) HFH MEWP Training-  Ashbourne
DESCRIPTION:
URL:https://heightforhiresafetytraining.ie/training-course/hfh-mewp-training-safety-harness-awareness-ashbourne/
CATEGORIES:Fully Booked
END:VEVENT
BEGIN:VEVENT
DTSTART;TZID=UTC:20230522T080000
DTEND;TZID=UTC:20230523T170000
DTSTAMP:20260423T105200
CREATED:20230426T134538Z
LAST-MODIFIED:20230512T144107Z
UID:7563-1684742400-1684861200@heightforhiresafetytraining.ie
SUMMARY:**FULL**HFH MEWP Training  -  Ashbourne
DESCRIPTION:
URL:https://heightforhiresafetytraining.ie/training-course/fully-bookedhfh-mewp-training-ashbourne/
CATEGORIES:Fully Booked
END:VEVENT
BEGIN:VEVENT
DTSTART;TZID=UTC:20230519T080000
DTEND;TZID=UTC:20230519T170000
DTSTAMP:20260423T105200
CREATED:20230426T133849Z
LAST-MODIFIED:20230524T133119Z
UID:7553-1684483200-1684515600@heightforhiresafetytraining.ie
SUMMARY:IPAF MEWP Training  -  Carrigtwohill\, Co. Cork
DESCRIPTION:
URL:https://heightforhiresafetytraining.ie/training-course/ipaf-mewp-training-carrigtwohill-co-cork/
CATEGORIES:Fully Booked
END:VEVENT
BEGIN:VEVENT
DTSTART;TZID=UTC:20230516T080000
DTEND;TZID=UTC:20230518T170000
DTSTAMP:20260423T105200
CREATED:20230426T134431Z
LAST-MODIFIED:20230512T143103Z
UID:7559-1684224000-1684429200@heightforhiresafetytraining.ie
SUMMARY:STATUS:FULL IPAF MEWP Training  -  Ashbourne
DESCRIPTION:
URL:https://heightforhiresafetytraining.ie/training-course/ipaf-mewp-training-ashbourne-272/
CATEGORIES:Fully Booked
END:VEVENT
END:VCALENDAR