BEGIN:VCALENDAR
VERSION:2.0
PRODID:-//Height for Hire Safety Training - ECPv6.15.17.1//NONSGML v1.0//EN
CALSCALE:GREGORIAN
METHOD:PUBLISH
X-ORIGINAL-URL:https://heightforhiresafetytraining.ie
X-WR-CALDESC:Events for Height for Hire Safety Training
REFRESH-INTERVAL;VALUE=DURATION:PT1H
X-Robots-Tag:noindex
X-PUBLISHED-TTL:PT1H
BEGIN:VTIMEZONE
TZID:UTC
BEGIN:STANDARD
TZOFFSETFROM:+0000
TZOFFSETTO:+0000
TZNAME:UTC
DTSTART:20220101T000000
END:STANDARD
END:VTIMEZONE
BEGIN:VEVENT
DTSTART;TZID=UTC:20231225T080000
DTEND;TZID=UTC:20240102T170000
DTSTAMP:20260422T203925
CREATED:20231117T084057Z
LAST-MODIFIED:20231117T084057Z
UID:8050-1703491200-1704214800@heightforhiresafetytraining.ie
SUMMARY:Training Centre Closed - Online Courses available
DESCRIPTION:
URL:https://heightforhiresafetytraining.ie/training-course/training-centre-closed-online-courses-available/
CATEGORIES:Available
END:VEVENT
END:VCALENDAR