BEGIN:VCALENDAR
VERSION:2.0
PRODID:-//Height for Hire Safety Training - ECPv6.15.17.1//NONSGML v1.0//EN
CALSCALE:GREGORIAN
METHOD:PUBLISH
X-WR-CALNAME:Height for Hire Safety Training
X-ORIGINAL-URL:https://heightforhiresafetytraining.ie
X-WR-CALDESC:Events for Height for Hire Safety Training
REFRESH-INTERVAL;VALUE=DURATION:PT1H
X-Robots-Tag:noindex
X-PUBLISHED-TTL:PT1H
BEGIN:VTIMEZONE
TZID:UTC
BEGIN:STANDARD
TZOFFSETFROM:+0000
TZOFFSETTO:+0000
TZNAME:UTC
DTSTART:20220101T000000
END:STANDARD
END:VTIMEZONE
BEGIN:VEVENT
DTSTART;TZID=UTC:20231023T080000
DTEND;TZID=UTC:20231023T170000
DTSTAMP:20260424T002036
CREATED:20230927T070135Z
LAST-MODIFIED:20231018T104023Z
UID:7933-1698048000-1698080400@heightforhiresafetytraining.ie
SUMMARY:(FULL)HFH MEWP Course + Safety Harness Awareness
DESCRIPTION:
URL:https://heightforhiresafetytraining.ie/training-course/ipaf-mewp-training-ashbourne-325/
CATEGORIES:Fully Booked
END:VEVENT
END:VCALENDAR