BEGIN:VCALENDAR
VERSION:2.0
PRODID:-//Height for Hire Safety Training - ECPv6.15.17.1//NONSGML v1.0//EN
CALSCALE:GREGORIAN
METHOD:PUBLISH
X-ORIGINAL-URL:https://heightforhiresafetytraining.ie
X-WR-CALDESC:Events for Height for Hire Safety Training
REFRESH-INTERVAL;VALUE=DURATION:PT1H
X-Robots-Tag:noindex
X-PUBLISHED-TTL:PT1H
BEGIN:VTIMEZONE
TZID:UTC
BEGIN:STANDARD
TZOFFSETFROM:+0000
TZOFFSETTO:+0000
TZNAME:UTC
DTSTART:20220101T000000
END:STANDARD
END:VTIMEZONE
BEGIN:VEVENT
DTSTART;TZID=UTC:20231010T080000
DTEND;TZID=UTC:20231010T170000
DTSTAMP:20260423T213357
CREATED:20230921T140815Z
LAST-MODIFIED:20231010T154954Z
UID:7908-1696924800-1696957200@heightforhiresafetytraining.ie
SUMMARY:HFH MEWP Course + Safety Harness Awareness
DESCRIPTION:
URL:https://heightforhiresafetytraining.ie/training-course/hfh-mewp-course-safety-harness-awareness/
CATEGORIES:Fully Booked
END:VEVENT
END:VCALENDAR