BEGIN:VCALENDAR
VERSION:2.0
PRODID:-//Height for Hire Safety Training - ECPv6.15.17.1//NONSGML v1.0//EN
CALSCALE:GREGORIAN
METHOD:PUBLISH
X-ORIGINAL-URL:https://heightforhiresafetytraining.ie
X-WR-CALDESC:Events for Height for Hire Safety Training
REFRESH-INTERVAL;VALUE=DURATION:PT1H
X-Robots-Tag:noindex
X-PUBLISHED-TTL:PT1H
BEGIN:VTIMEZONE
TZID:UTC
BEGIN:STANDARD
TZOFFSETFROM:+0000
TZOFFSETTO:+0000
TZNAME:UTC
DTSTART:20220101T000000
END:STANDARD
END:VTIMEZONE
BEGIN:VEVENT
DTSTART;TZID=UTC:20231003T080000
DTEND;TZID=UTC:20231003T170000
DTSTAMP:20260420T041529
CREATED:20230828T143616Z
LAST-MODIFIED:20231003T142117Z
UID:7854-1696320000-1696352400@heightforhiresafetytraining.ie
SUMMARY:IPAF MEWP Training  -  Ashbourne **Limited Space**
DESCRIPTION:Practical Only Day \, theory must be successfully completed online prior via eLearning.
URL:https://heightforhiresafetytraining.ie/training-course/ipaf-mewp-training-ashbourne-316/
CATEGORIES:Fully Booked
END:VEVENT
END:VCALENDAR