BEGIN:VCALENDAR
VERSION:2.0
PRODID:-//Height for Hire Safety Training - ECPv6.15.17.1//NONSGML v1.0//EN
CALSCALE:GREGORIAN
METHOD:PUBLISH
X-ORIGINAL-URL:https://heightforhiresafetytraining.ie
X-WR-CALDESC:Events for Height for Hire Safety Training
REFRESH-INTERVAL;VALUE=DURATION:PT1H
X-Robots-Tag:noindex
X-PUBLISHED-TTL:PT1H
BEGIN:VTIMEZONE
TZID:UTC
BEGIN:STANDARD
TZOFFSETFROM:+0000
TZOFFSETTO:+0000
TZNAME:UTC
DTSTART:20220101T000000
END:STANDARD
END:VTIMEZONE
BEGIN:VEVENT
DTSTART;TZID=UTC:20230928T080000
DTEND;TZID=UTC:20230928T170000
DTSTAMP:20260420T005559
CREATED:20230914T131545Z
LAST-MODIFIED:20230915T090458Z
UID:7884-1695888000-1695920400@heightforhiresafetytraining.ie
SUMMARY:(FULL)IPAF MEWP Training  -  Ashbourne
DESCRIPTION:
URL:https://heightforhiresafetytraining.ie/training-course/ipaf-mewp-training-ashbourne-space-limited-3/
CATEGORIES:Fully Booked
END:VEVENT
END:VCALENDAR