BEGIN:VCALENDAR
VERSION:2.0
PRODID:-//Height for Hire Safety Training - ECPv6.15.17.1//NONSGML v1.0//EN
CALSCALE:GREGORIAN
METHOD:PUBLISH
X-ORIGINAL-URL:https://heightforhiresafetytraining.ie
X-WR-CALDESC:Events for Height for Hire Safety Training
REFRESH-INTERVAL;VALUE=DURATION:PT1H
X-Robots-Tag:noindex
X-PUBLISHED-TTL:PT1H
BEGIN:VTIMEZONE
TZID:UTC
BEGIN:STANDARD
TZOFFSETFROM:+0000
TZOFFSETTO:+0000
TZNAME:UTC
DTSTART:20220101T000000
END:STANDARD
END:VTIMEZONE
BEGIN:VEVENT
DTSTART;TZID=UTC:20230919T080000
DTEND;TZID=UTC:20230919T170000
DTSTAMP:20260419T153448
CREATED:20230828T143057Z
LAST-MODIFIED:20230914T100142Z
UID:7842-1695110400-1695142800@heightforhiresafetytraining.ie
SUMMARY:(FULL)IPAF MEWP Training  -  Ashbourne
DESCRIPTION:
URL:https://heightforhiresafetytraining.ie/training-course/ipaf-mewp-training-ashbourne-314/
CATEGORIES:Fully Booked
END:VEVENT
END:VCALENDAR