BEGIN:VCALENDAR
VERSION:2.0
PRODID:-//Height for Hire Safety Training - ECPv6.15.17.1//NONSGML v1.0//EN
CALSCALE:GREGORIAN
METHOD:PUBLISH
X-ORIGINAL-URL:https://heightforhiresafetytraining.ie
X-WR-CALDESC:Events for Height for Hire Safety Training
REFRESH-INTERVAL;VALUE=DURATION:PT1H
X-Robots-Tag:noindex
X-PUBLISHED-TTL:PT1H
BEGIN:VTIMEZONE
TZID:UTC
BEGIN:STANDARD
TZOFFSETFROM:+0000
TZOFFSETTO:+0000
TZNAME:UTC
DTSTART:20220101T000000
END:STANDARD
END:VTIMEZONE
BEGIN:VEVENT
DTSTART;VALUE=DATE:20230220
DTEND;VALUE=DATE:20230223
DTSTAMP:20260420T054110
CREATED:20230210T162112Z
LAST-MODIFIED:20230217T122530Z
UID:7383-1676851200-1677110399@heightforhiresafetytraining.ie
SUMMARY:For Group bookings\, please contact 01 691 4008
DESCRIPTION:
URL:https://heightforhiresafetytraining.ie/training-course/for-group-bookings-please-contact-01-691-4008/
END:VEVENT
BEGIN:VEVENT
DTSTART;TZID=UTC:20230221T080000
DTEND;TZID=UTC:20230221T170000
DTSTAMP:20260420T054110
CREATED:20230118T091615Z
LAST-MODIFIED:20230216T085205Z
UID:7307-1676966400-1676998800@heightforhiresafetytraining.ie
SUMMARY:**FULLY BOOKED**Height for Hire MEWP Course + Safety Harness Awareness
DESCRIPTION:
URL:https://heightforhiresafetytraining.ie/training-course/ipaf-mewp-training-ashbourne-242/
CATEGORIES:Fully Booked
END:VEVENT
END:VCALENDAR