BEGIN:VCALENDAR
VERSION:2.0
PRODID:-//Height for Hire Safety Training - ECPv6.15.17.1//NONSGML v1.0//EN
CALSCALE:GREGORIAN
METHOD:PUBLISH
X-ORIGINAL-URL:https://heightforhiresafetytraining.ie
X-WR-CALDESC:Events for Height for Hire Safety Training
REFRESH-INTERVAL;VALUE=DURATION:PT1H
X-Robots-Tag:noindex
X-PUBLISHED-TTL:PT1H
BEGIN:VTIMEZONE
TZID:UTC
BEGIN:STANDARD
TZOFFSETFROM:+0000
TZOFFSETTO:+0000
TZNAME:UTC
DTSTART:20220101T000000
END:STANDARD
END:VTIMEZONE
BEGIN:VEVENT
DTSTART;VALUE=DATE:20230214
DTEND;VALUE=DATE:20230215
DTSTAMP:20260422T234030
CREATED:20230118T091437Z
LAST-MODIFIED:20230207T083444Z
UID:7299-1676332800-1676419199@heightforhiresafetytraining.ie
SUMMARY:**FULLY BOOKED**IPAF MEWP Training - Ashbourne
DESCRIPTION:
URL:https://heightforhiresafetytraining.ie/training-course/ipaf-mewp-training-ashbourne-238/
CATEGORIES:Fully Booked
END:VEVENT
END:VCALENDAR