BEGIN:VCALENDAR
VERSION:2.0
PRODID:-//Height for Hire Safety Training - ECPv6.15.17.1//NONSGML v1.0//EN
CALSCALE:GREGORIAN
METHOD:PUBLISH
X-WR-CALNAME:Height for Hire Safety Training
X-ORIGINAL-URL:https://heightforhiresafetytraining.ie
X-WR-CALDESC:Events for Height for Hire Safety Training
REFRESH-INTERVAL;VALUE=DURATION:PT1H
X-Robots-Tag:noindex
X-PUBLISHED-TTL:PT1H
BEGIN:VTIMEZONE
TZID:UTC
BEGIN:STANDARD
TZOFFSETFROM:+0000
TZOFFSETTO:+0000
TZNAME:UTC
DTSTART:20220101T000000
END:STANDARD
END:VTIMEZONE
BEGIN:VEVENT
DTSTART;TZID=UTC:20230203T080000
DTEND;TZID=UTC:20230203T170000
DTSTAMP:20260422T233653
CREATED:20230112T113730Z
LAST-MODIFIED:20230112T113730Z
UID:7268-1675411200-1675443600@heightforhiresafetytraining.ie
SUMMARY:**FULLY BOOKED**IPAF MEWP Training - Ashbourne
DESCRIPTION:
URL:https://heightforhiresafetytraining.ie/training-course/fully-bookedipaf-mewp-training-ashbourne-22/
CATEGORIES:Fully Booked
END:VEVENT
END:VCALENDAR