BEGIN:VCALENDAR
VERSION:2.0
PRODID:-//Height for Hire Safety Training - ECPv6.15.17.1//NONSGML v1.0//EN
CALSCALE:GREGORIAN
METHOD:PUBLISH
X-ORIGINAL-URL:https://heightforhiresafetytraining.ie
X-WR-CALDESC:Events for Height for Hire Safety Training
REFRESH-INTERVAL;VALUE=DURATION:PT1H
X-Robots-Tag:noindex
X-PUBLISHED-TTL:PT1H
BEGIN:VTIMEZONE
TZID:UTC
BEGIN:STANDARD
TZOFFSETFROM:+0000
TZOFFSETTO:+0000
TZNAME:UTC
DTSTART:20210101T000000
END:STANDARD
END:VTIMEZONE
BEGIN:VEVENT
DTSTART;VALUE=DATE:20221117
DTEND;VALUE=DATE:20221118
DTSTAMP:20260423T090039
CREATED:20221013T081025Z
LAST-MODIFIED:20221103T090329Z
UID:7097-1668643200-1668729599@heightforhiresafetytraining.ie
SUMMARY:**FULLY BOOKED**IPAF MEWP Training - Cork
DESCRIPTION:
URL:https://heightforhiresafetytraining.ie/training-course/ipaf-mewp-training-cork-4/
CATEGORIES:Fully Booked
END:VEVENT
BEGIN:VEVENT
DTSTART;VALUE=DATE:20221117
DTEND;VALUE=DATE:20221118
DTSTAMP:20260423T090039
CREATED:20221013T081210Z
LAST-MODIFIED:20221129T144556Z
UID:7101-1668643200-1668729599@heightforhiresafetytraining.ie
SUMMARY:Height for Hire MEWP Course + Safety Harness Awareness - ASHBOURNE
DESCRIPTION:
URL:https://heightforhiresafetytraining.ie/training-course/ipaf-mewp-training-ashbourne-203/
CATEGORIES:Fully Booked
END:VEVENT
END:VCALENDAR