BEGIN:VCALENDAR
VERSION:2.0
PRODID:-//Height for Hire Safety Training - ECPv6.15.17.1//NONSGML v1.0//EN
CALSCALE:GREGORIAN
METHOD:PUBLISH
X-WR-CALNAME:Height for Hire Safety Training
X-ORIGINAL-URL:https://heightforhiresafetytraining.ie
X-WR-CALDESC:Events for Height for Hire Safety Training
REFRESH-INTERVAL;VALUE=DURATION:PT1H
X-Robots-Tag:noindex
X-PUBLISHED-TTL:PT1H
BEGIN:VTIMEZONE
TZID:UTC
BEGIN:STANDARD
TZOFFSETFROM:+0000
TZOFFSETTO:+0000
TZNAME:UTC
DTSTART:20210101T000000
END:STANDARD
END:VTIMEZONE
BEGIN:VEVENT
DTSTART;VALUE=DATE:20221107
DTEND;VALUE=DATE:20221108
DTSTAMP:20260423T065658
CREATED:20220907T110802Z
LAST-MODIFIED:20221103T090138Z
UID:7004-1667779200-1667865599@heightforhiresafetytraining.ie
SUMMARY:**FULLY BOOKED**IPAF MEWP Training - Ashbourne
DESCRIPTION:
URL:https://heightforhiresafetytraining.ie/training-course/ipaf-mewp-training-ashbourne-196/
CATEGORIES:Fully Booked
END:VEVENT
BEGIN:VEVENT
DTSTART;TZID=UTC:20221107T080000
DTEND;TZID=UTC:20221107T170000
DTSTAMP:20260423T065658
CREATED:20221107T082104Z
LAST-MODIFIED:20221107T082104Z
UID:7172-1667808000-1667840400@heightforhiresafetytraining.ie
SUMMARY:**FULLY BOOKED**IPAF MEWP Training - Ashbourne
DESCRIPTION:
URL:https://heightforhiresafetytraining.ie/training-course/fully-bookedipaf-mewp-training-ashbourne-13/
CATEGORIES:Fully Booked
END:VEVENT
END:VCALENDAR