BEGIN:VCALENDAR
VERSION:2.0
PRODID:-//Height for Hire Safety Training - ECPv6.15.17.1//NONSGML v1.0//EN
CALSCALE:GREGORIAN
METHOD:PUBLISH
X-ORIGINAL-URL:https://heightforhiresafetytraining.ie
X-WR-CALDESC:Events for Height for Hire Safety Training
REFRESH-INTERVAL;VALUE=DURATION:PT1H
X-Robots-Tag:noindex
X-PUBLISHED-TTL:PT1H
BEGIN:VTIMEZONE
TZID:UTC
BEGIN:STANDARD
TZOFFSETFROM:+0000
TZOFFSETTO:+0000
TZNAME:UTC
DTSTART:20210101T000000
END:STANDARD
END:VTIMEZONE
BEGIN:VEVENT
DTSTART;VALUE=DATE:20221026
DTEND;VALUE=DATE:20221027
DTSTAMP:20260423T124058
CREATED:20221013T080801Z
LAST-MODIFIED:20221020T101006Z
UID:7093-1666742400-1666828799@heightforhiresafetytraining.ie
SUMMARY:*FULLY BOOKED*IPAF MEWP Training - Cork
DESCRIPTION:
URL:https://heightforhiresafetytraining.ie/training-course/ipaf-mewp-training-corklimited-space-left/
CATEGORIES:Fully Booked
END:VEVENT
BEGIN:VEVENT
DTSTART;TZID=UTC:20221026T080000
DTEND;TZID=UTC:20221026T170000
DTSTAMP:20260423T124058
CREATED:20221004T094624Z
LAST-MODIFIED:20221004T094624Z
UID:7034-1666771200-1666803600@heightforhiresafetytraining.ie
SUMMARY:IPAF MEWP Training - ASHBOURNE
DESCRIPTION:
URL:https://heightforhiresafetytraining.ie/training-course/ipaf-mewp-training-ashbourne-198/
CATEGORIES:Fully Booked
END:VEVENT
END:VCALENDAR