BEGIN:VCALENDAR
VERSION:2.0
PRODID:-//Height for Hire Safety Training - ECPv6.15.17.1//NONSGML v1.0//EN
CALSCALE:GREGORIAN
METHOD:PUBLISH
X-WR-CALNAME:Height for Hire Safety Training
X-ORIGINAL-URL:https://heightforhiresafetytraining.ie
X-WR-CALDESC:Events for Height for Hire Safety Training
REFRESH-INTERVAL;VALUE=DURATION:PT1H
X-Robots-Tag:noindex
X-PUBLISHED-TTL:PT1H
BEGIN:VTIMEZONE
TZID:UTC
BEGIN:STANDARD
TZOFFSETFROM:+0000
TZOFFSETTO:+0000
TZNAME:UTC
DTSTART:20210101T000000
END:STANDARD
END:VTIMEZONE
BEGIN:VEVENT
DTSTART;TZID=UTC:20220923T080000
DTEND;TZID=UTC:20220923T170000
DTSTAMP:20260423T141207
CREATED:20220727T135426Z
LAST-MODIFIED:20220923T155916Z
UID:6883-1663920000-1663952400@heightforhiresafetytraining.ie
SUMMARY:Height for Hire MEWP Training + Safety Harness Awareness - ASHBOURNE
DESCRIPTION:
URL:https://heightforhiresafetytraining.ie/training-course/height-for-hire-mewp-training-safety-harness-awareness-ashbourne/
CATEGORIES:Fully Booked
END:VEVENT
END:VCALENDAR