BEGIN:VCALENDAR
VERSION:2.0
PRODID:-//Height for Hire Safety Training - ECPv6.15.17.1//NONSGML v1.0//EN
CALSCALE:GREGORIAN
METHOD:PUBLISH
X-WR-CALNAME:Height for Hire Safety Training
X-ORIGINAL-URL:https://heightforhiresafetytraining.ie
X-WR-CALDESC:Events for Height for Hire Safety Training
REFRESH-INTERVAL;VALUE=DURATION:PT1H
X-Robots-Tag:noindex
X-PUBLISHED-TTL:PT1H
BEGIN:VTIMEZONE
TZID:UTC
BEGIN:STANDARD
TZOFFSETFROM:+0000
TZOFFSETTO:+0000
TZNAME:UTC
DTSTART:20210101T000000
END:STANDARD
END:VTIMEZONE
BEGIN:VEVENT
DTSTART;TZID=UTC:20220909T080000
DTEND;TZID=UTC:20220909T170000
DTSTAMP:20260423T142803
CREATED:20220819T083006Z
LAST-MODIFIED:20220912T111155Z
UID:6923-1662710400-1662742800@heightforhiresafetytraining.ie
SUMMARY:IPAF MEWP Training *Practical's only - ASHBOURNE
DESCRIPTION:
URL:https://heightforhiresafetytraining.ie/training-course/ipaf-mewp-training-ashbourne-171/
CATEGORIES:Fully Booked
END:VEVENT
END:VCALENDAR