BEGIN:VCALENDAR
VERSION:2.0
PRODID:-//Height for Hire Safety Training - ECPv6.15.17.1//NONSGML v1.0//EN
CALSCALE:GREGORIAN
METHOD:PUBLISH
X-ORIGINAL-URL:https://heightforhiresafetytraining.ie
X-WR-CALDESC:Events for Height for Hire Safety Training
REFRESH-INTERVAL;VALUE=DURATION:PT1H
X-Robots-Tag:noindex
X-PUBLISHED-TTL:PT1H
BEGIN:VTIMEZONE
TZID:UTC
BEGIN:STANDARD
TZOFFSETFROM:+0000
TZOFFSETTO:+0000
TZNAME:UTC
DTSTART:20210101T000000
END:STANDARD
END:VTIMEZONE
BEGIN:VEVENT
DTSTART;TZID=UTC:20220831T080000
DTEND;TZID=UTC:20220831T170000
DTSTAMP:20260423T172650
CREATED:20220816T105156Z
LAST-MODIFIED:20220905T072613Z
UID:6903-1661932800-1661965200@heightforhiresafetytraining.ie
SUMMARY:IPAF MEWP Training - ASHBOURNE
DESCRIPTION:
URL:https://heightforhiresafetytraining.ie/training-course/ipaf-mewp-training-ashbourne-166/
CATEGORIES:Fully Booked
END:VEVENT
END:VCALENDAR