BEGIN:VCALENDAR
VERSION:2.0
PRODID:-//Height for Hire Safety Training - ECPv6.15.17.1//NONSGML v1.0//EN
CALSCALE:GREGORIAN
METHOD:PUBLISH
X-WR-CALNAME:Height for Hire Safety Training
X-ORIGINAL-URL:https://heightforhiresafetytraining.ie
X-WR-CALDESC:Events for Height for Hire Safety Training
REFRESH-INTERVAL;VALUE=DURATION:PT1H
X-Robots-Tag:noindex
X-PUBLISHED-TTL:PT1H
BEGIN:VTIMEZONE
TZID:UTC
BEGIN:STANDARD
TZOFFSETFROM:+0000
TZOFFSETTO:+0000
TZNAME:UTC
DTSTART:20210101T000000
END:STANDARD
END:VTIMEZONE
BEGIN:VEVENT
DTSTART;TZID=UTC:20220711T080000
DTEND;TZID=UTC:20220711T170000
DTSTAMP:20260425T195450
CREATED:20220608T131213Z
LAST-MODIFIED:20220707T150004Z
UID:6716-1657526400-1657558800@heightforhiresafetytraining.ie
SUMMARY:**FULLY BOOKED**IPAF MEWP Training\, Practical's Only  - ASHBOURNE
DESCRIPTION:
URL:https://heightforhiresafetytraining.ie/training-course/ipaf-mewp-training-practical-only-ashbourne-5/
CATEGORIES:Fully Booked
END:VEVENT
BEGIN:VEVENT
DTSTART;TZID=UTC:20220711T080000
DTEND;TZID=UTC:20220711T170000
DTSTAMP:20260425T195450
CREATED:20220613T102323Z
LAST-MODIFIED:20220711T071143Z
UID:6723-1657526400-1657558800@heightforhiresafetytraining.ie
SUMMARY:IPAF MEWP Training \,Practical only**LIMERICK**
DESCRIPTION:
URL:https://heightforhiresafetytraining.ie/training-course/ipaf-mewp-training-practical-only-limerick/
CATEGORIES:Fully Booked
END:VEVENT
END:VCALENDAR