BEGIN:VCALENDAR
VERSION:2.0
PRODID:-//Height for Hire Safety Training - ECPv6.15.17.1//NONSGML v1.0//EN
CALSCALE:GREGORIAN
METHOD:PUBLISH
X-ORIGINAL-URL:https://heightforhiresafetytraining.ie
X-WR-CALDESC:Events for Height for Hire Safety Training
REFRESH-INTERVAL;VALUE=DURATION:PT1H
X-Robots-Tag:noindex
X-PUBLISHED-TTL:PT1H
BEGIN:VTIMEZONE
TZID:UTC
BEGIN:STANDARD
TZOFFSETFROM:+0000
TZOFFSETTO:+0000
TZNAME:UTC
DTSTART:20210101T000000
END:STANDARD
END:VTIMEZONE
BEGIN:VEVENT
DTSTART;TZID=UTC:20220617T080000
DTEND;TZID=UTC:20220617T170000
DTSTAMP:20260426T003808
CREATED:20220520T094809Z
LAST-MODIFIED:20220602T133401Z
UID:6650-1655452800-1655485200@heightforhiresafetytraining.ie
SUMMARY:*Fully Booked* IPAF MEWP Classroom Training - ASHBOURNE
DESCRIPTION:IPAF 3a / 3b / 1b / 1a MEWP Training\nIPAF MEWP training is strongly recommended for MEWP operators working in the UK and NI and may be required on some ROI construction sites. \nDuration \n\nClassroom\n\n1 day typically from 8.30am to 4.30pm – Classroom Theory with an instructor followed by practical training \n\nPractical\n\nCandidates complete IPAF theory online (at home or work) & then complete practical’s in our depot\, practical training vary depending on MEWPs required for training. \nWhat type of MEWPs are covered under IPAF 3a\, 3b \,1b 1a Operator Training?\nMEWP is an overall name for powered access platforms which can refer to any type of Mobile Elevating Work Platform. The IPAF 3a Operator category covers the safe use of Mobile Vertical machines generally called Scissor Lifts. The IPAF 3b Operator category covers the safe use of Mobile Boom machines which are self-propelled booms and may be articulated or telescopic booms and can be driven at height. The IPAF 1b Operator category covers Static Boom machines which are generally fitted with outriggers and cannot be driven while elevated. 1b Static Boom is an overall category name which includes Van-mounted booms\, Truck-mounted booms\, Trailer-mounted booms or Spider booms on tracks or wheels. \nExtra categories \nUp to four IPAF MEWP categories can be done on the same training day subject to notice and availability of machines eg 3a Mobile Vertical (Scissor Lift)\, 3b Mobile Boom\, 1b Static Boom & 1a Static Vertical \nLocation: \nAvailable from any of our training centres: Dublin\, Cork*\, Portlaoise*\, Limerick*\, Belfast\, Manchester*\, London*\, Glasgow*\, Newcastle*\, Midlands / Banbury*                                                  * Training centres currently closed for training due to covid restrictions \nOn-site training\nOn-site training on your premises is also available anywhere in Ireland and UK subject to minimum numbers and having the MEWPs available on site. A suitable room would be required for on-site training for the theory section of the course\, and a Scissor Lift / Mobile Vertical and Mobile Boom and Static Boom would be needed for the practical test\, if candidates need all three IPAF categories on their PAL card. The MEWP Operator’s Manual and a copy of the current 6 monthly Certificate of Thorough Examination for each MEWP is required. \nCertification\nSuccessful delegates will receive an IPAF ePAL Card valid for 5 years and an IPAF Certificate of Training for categories trained. Photographs for the operator card are taken on site and included in the price. Candidates will need to download the free ePAL IPAF app in order to receive their digital cards & certs. A physical copy can be issued for an additional cost. \nCourse Description\nCourse content\nIntroduction and pre-course theory test\nMEWP categories\nStructural parts\nRegulations ISO 18878\, PUWER\, LOLER\, RIDDOR\, WAHR\, MHSW\nPre-use inspection/handover\nSafe operating methods and hazards\nTheory test practical training\nPractical assessment\nLicence renewal & logbooks\nCourse evaluation \nTrainee Requirements\nCandidates for IPAF MEWP courses must be at least 16 years of age. They must be medically fit to operate machinery. \nPPE Requirements\nTrainees must have the appropriate Personal Protective Equipment with them to operate the MEWPs i.e. Helmet\, Safety Boots\, Hi-Visibility Vest\, Harness & Adjustable Restraint Lanyard. \nWho Should Attend?\nThe MEWP IPAF Operator training course is suitable for anyone who operates different types of MEWPs whether they are Scissor Lifts (Mobile Vertical lifts)\, Self-Propelled Telescopic booms or Articulating booms (Mobile booms). It is also suitable for users of Static Booms with outriggers including Spider booms on tracks or wheels\, Van-mounted booms\, Truck-mounted booms or Trailer-mounted booms. \nCourse Objectives\nTo provide delegates with the essential knowledge required to operate various types of MEWPs under three IPAF categories 3a Mobile Vertical\, 3b Mobile Boom and 1b Static Boom categories efficiently and safely. \nTraining Methods\nPresentation with slides\, video\, demonstration\, practical use or eLearning \nWho Will Benefit?\nAll those in your organisation who use\, supervise or manage the use of MEWPs would benefit from IPAF Operator training. This 3 category course covers Scissor Lifts (Mobile Vertical lifts)\, Self-Propelled Telescopic booms or Articulating booms (Mobile booms)\, Static Booms with outriggers including Spider booms on tracks or wheels\, Van-mounted booms\, Truck-mounted booms or Trailer-mounted booms subject to receiving familiarisation on the model machine being used.
URL:https://heightforhiresafetytraining.ie/training-course/ipaf-mewp-training-ashbourne-136/
CATEGORIES:Fully Booked
END:VEVENT
END:VCALENDAR