BEGIN:VCALENDAR
VERSION:2.0
PRODID:-//Height for Hire Safety Training - ECPv6.15.17.1//NONSGML v1.0//EN
CALSCALE:GREGORIAN
METHOD:PUBLISH
X-ORIGINAL-URL:https://heightforhiresafetytraining.ie
X-WR-CALDESC:Events for Height for Hire Safety Training
REFRESH-INTERVAL;VALUE=DURATION:PT1H
X-Robots-Tag:noindex
X-PUBLISHED-TTL:PT1H
BEGIN:VTIMEZONE
TZID:UTC
BEGIN:STANDARD
TZOFFSETFROM:+0000
TZOFFSETTO:+0000
TZNAME:UTC
DTSTART:20210101T000000
END:STANDARD
END:VTIMEZONE
BEGIN:VEVENT
DTSTART;TZID=UTC:20220614T080000
DTEND;TZID=UTC:20220614T170000
DTSTAMP:20260426T003742
CREATED:20220520T094731Z
LAST-MODIFIED:20220527T142658Z
UID:6646-1655193600-1655226000@heightforhiresafetytraining.ie
SUMMARY:*Fully Booked* Height for Hire MEWP Training - ASHBOURNE
DESCRIPTION:Height for Hire MEWP & Harness Training \nHFH Operator Training on MEWPs and Harness is suitable for MEWP operators working in Republic of Ireland.\nIPAF MEWP training is strongly recommended for MEWP operators working in the UK and NI and may be required on some ROI construction sites. IPAF 3a/3b/1b MEWP Operator. \nDuration\n1 day typically from 8.30am to 4.30pm. \nWhat type of MEWPs are covered under Height for Hire MEWP Training?\nMEWP is an overall name for powered access platforms which can refer to any type of Mobile Elevating Work Platform / Cherry Picker. Our standard MEWP operator course covers Scissor Lift and Self-Propelled Boom\, harness training is also included on this 1 day course. Candidates attending the Height for Hire course can choose from the following MEWP categories Scissor Lift\, Self-Propelled Boom\, Vehicle Mounted platforms and Spider Type booms. The candidate must carry out a practical test on each category they wish to appear on their Certificate of Training and Operator card. Harness training can be carried out on the same day as a Height for Hire MEWP course. \nExtra categories\nOur standard MEWP operator course covers Scissor Lift and Self-Propelled Boom. Additional MEWP categories can be done on the same training day subject to notice and availability of machines eg Vehicle Mounted or Spider Type Booms \nLocation\nThis one day MEWP Operator course is available from any of our training centres:  Dublin\, Cork\, Belfast\, Portlaoise\, Limerick. \nOn-site training\nOn-site training on your premises is also available anywhere in Ireland subject to minimum numbers and having the MEWPs available on site. A suitable room would be required for on-site training for the theory section of the course\, and the relevant MEWPs categories would be needed for the practical test\, depending on which candidates they candidates wish to have on their card. The MEWP Operator’s Manual and a copy of the current 6 monthly Certificate of Thorough Examination for each MEWP is required. \nCertification\nSuccessful delegates will receive a Height for Hire Certificate of Training and Operator card valid for 5 years for whichever categories the candidates have successfully completed a practical test. A Height for Hire safety booklet will be given to each delegate on the day of training. Photographs for the operator card are taken on site and included in the price. \nCourse Description\nIntroduction\nLegislation SHWWA\nGeneral Application Regulations\nMEWP categories\nPre-Use Inspection\nSafe operating methods and hazards\nOverhead Hazards\nGround Conditions\nTheory test\nPractical training\nPractical assessment\nCourse evaluation \nTrainee Requirements\nCandidates for MEWP courses must be at least 16 years of age. They must be medically fit to operate machinery. \nPPE Requirements\nTrainees must have the appropriate Personal Protective Equipment with them to operate the MEWPs i.e. Helmet\, Safety Boots\, Hi-Visibility Vest\, Harness & Adjustable Restraint Lanyard. \nWho Should Attend?\nThis Height for Hire MEWP IPAF Operator training course is suitable for anyone who operates different types of MEWPs whether they are Scissor Lifts (Mobile Vertical lifts)\, Self-Propelled Telescopic booms or Articulating booms (Mobile booms). It is also suitable for users of Static Booms with outriggers including Spider booms on tracks or wheels\, Van-mounted booms\, Truck-mounted booms or Trailer-mounted booms. \nCourse Objectives\nTo provide delegates with the essential knowledge required to operate various types of MEWPs under Scissor Lift\, Self-Propelled Boom\, Vehicle Mounted Platforms or Spider Type Boom categories efficiently and safely. \nTraining Methods\nPresentation with slides\, video\, printed course material\, demonstration\, practical use. \nWho Will Benefit?\nAll those in your organisation who use\, supervise\, or manage the use of MEWPs would benefit from MEWP Operator training. This Height for Hire course covers Scissor Lifts (Mobile Vertical lifts)\, Self-Propelled Telescopic booms or Articulating booms (Mobile booms)\, Static Booms with outriggers including Spider booms on tracks or wheels\, Van-mounted booms\, Truck-mounted booms or Trailer-mounted booms subject to receiving familiarisation on the model machine being used.
URL:https://heightforhiresafetytraining.ie/training-course/ipaf-mewp-training-ashbourne-134/
CATEGORIES:Fully Booked
END:VEVENT
END:VCALENDAR